BEGIN:VCALENDAR
VERSION:2.0
PRODID:-//Albert Lea Civic Music - ECPv6.0.13.1//NONSGML v1.0//EN
CALSCALE:GREGORIAN
METHOD:PUBLISH
X-ORIGINAL-URL:https://albertleacivicmusic.com
X-WR-CALDESC:Events for Albert Lea Civic Music
REFRESH-INTERVAL;VALUE=DURATION:PT1H
X-Robots-Tag:noindex
X-PUBLISHED-TTL:PT1H
BEGIN:VTIMEZONE
TZID:America/Chicago
BEGIN:DAYLIGHT
TZOFFSETFROM:-0600
TZOFFSETTO:-0500
TZNAME:CDT
DTSTART:20220313T080000
END:DAYLIGHT
BEGIN:STANDARD
TZOFFSETFROM:-0500
TZOFFSETTO:-0600
TZNAME:CST
DTSTART:20221106T070000
END:STANDARD
END:VTIMEZONE
BEGIN:VEVENT
DTSTART;TZID=America/Chicago:20221003T190000
DTEND;TZID=America/Chicago:20221003T190000
DTSTAMP:20260421T210532
CREATED:20220720T120026Z
LAST-MODIFIED:20220913T132302Z
UID:846-1664823600-1664823600@albertleacivicmusic.com
SUMMARY:Brothers
DESCRIPTION:Canadian singer/pianist/producer Jim Witter has been entertaining crowds for over 30 years. He has created and toured many terrific shows including The Piano Men featuring the music of Elton John and Billy Joel\, and I Write the Songs featuring the music of Barry Manilow. Jim Witter’s new show called Brothers features the hits of “musical brothers” like Lennon & McCartney\, Hall & Oates\, The Righteous Brothers\, The Beach Boys and many others. \nWitter will be paired with his multi-talented musical partner Ian Tanner. This talented duo features Witter on vocals\, piano and guitar and Tanner on bass\, guitar\, and vocals. Terrific videos complement the show\, bringing you back to the era of these “Brothers”. \nWitter’s versatility as an artist has allowed him the opportunity to reach out and share his music and his infectious personality with audiences of all ages around the world. His unique approach and comfortable rapport make each member of his audience feel as though they are a part of a private concert in the comfort of their own living room. This\, along with his rich\, powerful voice and ease of manner at the piano\, make him a favorite with theatre goers everywhere.
URL:https://albertleacivicmusic.com/event/brothers/
LOCATION:Albert Lea High School Auditorium\, 2000 Tiger Ln\, Albert Lea\, MN\, 56007\, United States
CATEGORIES:Civic Music - Concert Series
ATTACH;FMTTYPE=image/webp:https://albertleacivicmusic.com/wp-content/uploads/2022/08/Brothers_1_web.webp
END:VEVENT
END:VCALENDAR