BEGIN:VCALENDAR
VERSION:2.0
PRODID:-//Albert Lea Civic Music - ECPv6.0.13.1//NONSGML v1.0//EN
CALSCALE:GREGORIAN
METHOD:PUBLISH
X-ORIGINAL-URL:https://albertleacivicmusic.com
X-WR-CALDESC:Events for Albert Lea Civic Music
REFRESH-INTERVAL;VALUE=DURATION:PT1H
X-Robots-Tag:noindex
X-PUBLISHED-TTL:PT1H
BEGIN:VTIMEZONE
TZID:America/Chicago
BEGIN:DAYLIGHT
TZOFFSETFROM:-0600
TZOFFSETTO:-0500
TZNAME:CDT
DTSTART:20260308T080000
END:DAYLIGHT
BEGIN:STANDARD
TZOFFSETFROM:-0500
TZOFFSETTO:-0600
TZNAME:CST
DTSTART:20261101T070000
END:STANDARD
END:VTIMEZONE
BEGIN:VEVENT
DTSTART;TZID=America/Chicago:20260507T190000
DTEND;TZID=America/Chicago:20260507T190000
DTSTAMP:20260420T200445
CREATED:20250509T193223Z
LAST-MODIFIED:20250602T194237Z
UID:3237-1778180400-1778180400@albertleacivicmusic.com
SUMMARY:CeCe Teneal – Divas of Soul
DESCRIPTION:Take a ride on the “Midnight Train to Georgia” over “River Deep\, Mountain High” while award-winning vocalist CeCe Teneal delivers you the “R-E-S-P-E-C-T” you deserve in DIVAS OF SOUL. This spectacular celebration of thirty years of chart-topping music from artists like Aretha Franklin\, Gladys Knight\, Chaka Khan\, Tina Turner\, Whitney Houston and more has wowed audiences worldwide\, featuring hits from the Disco Era to Broadway to Pop. An award-winning songstress in her own right\, Ms. Teneal has been nominated for four Independent Music Awards and claimed the title for 2011 Best Gospel Song and 2011 Best R&B Album\, as well as 2018 Best Soul/Funk/Fusion Song.
URL:https://albertleacivicmusic.com/event/cece-teneal-divas-of-soul/
LOCATION:Albert Lea High School Auditorium\, 2000 Tiger Ln\, Albert Lea\, MN\, 56007\, United States
CATEGORIES:Civic Music - Concert Series
ATTACH;FMTTYPE=image/webp:https://albertleacivicmusic.com/wp-content/uploads/2025/06/CeCe-Teneal-1.webp
END:VEVENT
END:VCALENDAR