BEGIN:VCALENDAR
VERSION:2.0
PRODID:-//Albert Lea Civic Music - ECPv6.0.13.1//NONSGML v1.0//EN
CALSCALE:GREGORIAN
METHOD:PUBLISH
X-WR-CALNAME:Albert Lea Civic Music
X-ORIGINAL-URL:https://albertleacivicmusic.com
X-WR-CALDESC:Events for Albert Lea Civic Music
REFRESH-INTERVAL;VALUE=DURATION:PT1H
X-Robots-Tag:noindex
X-PUBLISHED-TTL:PT1H
BEGIN:VTIMEZONE
TZID:America/Chicago
BEGIN:DAYLIGHT
TZOFFSETFROM:-0600
TZOFFSETTO:-0500
TZNAME:CDT
DTSTART:20250309T080000
END:DAYLIGHT
BEGIN:STANDARD
TZOFFSETFROM:-0500
TZOFFSETTO:-0600
TZNAME:CST
DTSTART:20251102T070000
END:STANDARD
END:VTIMEZONE
BEGIN:VEVENT
DTSTART;TZID=America/Chicago:20250808T090000
DTEND;TZID=America/Chicago:20250808T130000
DTSTAMP:20260423T115917
CREATED:20250806T174023Z
LAST-MODIFIED:20250806T174835Z
UID:3289-1754643600-1754658000@albertleacivicmusic.com
SUMMARY:Season Tickets On Sale At HyVee This Friday!
DESCRIPTION:Stop by the Albert Lea HyVee this Friday\, Aug 8th\, from 9 AM–1 PM to grab your season tickets and chat with our friendly board members about the upcoming season! See all the ways to buy season tickets!
URL:https://albertleacivicmusic.com/event/season-tickets-on-sale-this-friday/
LOCATION:Hy-Vee of Albert Lea\, 2708 Bridge Avenue\, Albert Lea\, MN\, 56007\, United States
CATEGORIES:Happening Soon
ATTACH;FMTTYPE=image/webp:https://albertleacivicmusic.com/wp-content/uploads/2025/06/79th-Season.webp
END:VEVENT
END:VCALENDAR