BEGIN:VCALENDAR
VERSION:2.0
PRODID:-//Albert Lea Civic Music - ECPv6.0.13.1//NONSGML v1.0//EN
CALSCALE:GREGORIAN
METHOD:PUBLISH
X-WR-CALNAME:Albert Lea Civic Music
X-ORIGINAL-URL:https://albertleacivicmusic.com
X-WR-CALDESC:Events for Albert Lea Civic Music
REFRESH-INTERVAL;VALUE=DURATION:PT1H
X-Robots-Tag:noindex
X-PUBLISHED-TTL:PT1H
BEGIN:VTIMEZONE
TZID:America/Chicago
BEGIN:DAYLIGHT
TZOFFSETFROM:-0600
TZOFFSETTO:-0500
TZNAME:CDT
DTSTART:20260308T080000
END:DAYLIGHT
BEGIN:STANDARD
TZOFFSETFROM:-0500
TZOFFSETTO:-0600
TZNAME:CST
DTSTART:20261101T070000
END:STANDARD
END:VTIMEZONE
BEGIN:VEVENT
DTSTART;TZID=America/Chicago:20260520T180000
DTEND;TZID=America/Chicago:20260520T180000
DTSTAMP:20260421T082005
CREATED:20260218T171751Z
LAST-MODIFIED:20260218T171751Z
UID:3350-1779300000-1779300000@albertleacivicmusic.com
SUMMARY:Scholarship Showcase Recital - 2025 Recipients
DESCRIPTION:An annual event\, the Showcase Recital features short performances from all 2025 Civic Music Scholarship recipients.  Join Albert Lea Civic Music as we recognize our many talented young artists in the Albert Lea area. \n\n\nThis is a free event
URL:https://albertleacivicmusic.com/event/scholarship-showcase-recital-2025-recipients/
LOCATION:Zion Lutheran Church\, 924 Bridge Ave\, Albert Lea\, MN\, 56007\, United States
CATEGORIES:Scholarships
ATTACH;FMTTYPE=image/webp:https://albertleacivicmusic.com/wp-content/uploads/2023/01/violin-1-scaled.webp
END:VEVENT
END:VCALENDAR