BEGIN:VCALENDAR
VERSION:2.0
PRODID:-//Albert Lea Civic Music - ECPv6.0.13.1//NONSGML v1.0//EN
CALSCALE:GREGORIAN
METHOD:PUBLISH
X-WR-CALNAME:Albert Lea Civic Music
X-ORIGINAL-URL:https://albertleacivicmusic.com
X-WR-CALDESC:Events for Albert Lea Civic Music
REFRESH-INTERVAL;VALUE=DURATION:PT1H
X-Robots-Tag:noindex
X-PUBLISHED-TTL:PT1H
BEGIN:VTIMEZONE
TZID:America/Chicago
BEGIN:DAYLIGHT
TZOFFSETFROM:-0600
TZOFFSETTO:-0500
TZNAME:CDT
DTSTART:20210314T080000
END:DAYLIGHT
BEGIN:STANDARD
TZOFFSETFROM:-0500
TZOFFSETTO:-0600
TZNAME:CST
DTSTART:20211107T070000
END:STANDARD
END:VTIMEZONE
BEGIN:VEVENT
DTSTART;TZID=America/Chicago:20211012T190000
DTEND;TZID=America/Chicago:20211012T190000
DTSTAMP:20260420T195407
CREATED:20220209T040804Z
LAST-MODIFIED:20220520T005507Z
UID:104-1634065200-1634065200@albertleacivicmusic.com
SUMMARY:Ball In The House
DESCRIPTION:With their extensive tour schedule (averaging 200 shows a year)\, Ball in the House has performed everywhere – from theaters to performing arts centers\, fairs & festivals\, to opening for some of the biggest acts in the world\, such as The Beach Boys\, The Jonas Brothers\, The Temptations\, Fantasia\, Gladys Knight\, Lionel Richie\, Jessica Simpson\, Blondie\, Smokey Robinson\, KC & The Sunshine Band\, Diamond Rio\, Colin Raye\, Orleans\, and numerous others.
URL:https://albertleacivicmusic.com/event/ball-in-the-house/
LOCATION:Albert Lea High School Auditorium\, 2000 Tiger Ln\, Albert Lea\, MN\, 56007\, United States
CATEGORIES:Civic Music - Concert Series
ATTACH;FMTTYPE=image/jpeg:https://albertleacivicmusic.com/wp-content/uploads/2022/02/ballinthehouse.jpg
END:VEVENT
END:VCALENDAR