BEGIN:VCALENDAR
VERSION:2.0
PRODID:-//Albert Lea Civic Music - ECPv6.0.13.1//NONSGML v1.0//EN
CALSCALE:GREGORIAN
METHOD:PUBLISH
X-ORIGINAL-URL:https://albertleacivicmusic.com
X-WR-CALDESC:Events for Albert Lea Civic Music
REFRESH-INTERVAL;VALUE=DURATION:PT1H
X-Robots-Tag:noindex
X-PUBLISHED-TTL:PT1H
BEGIN:VTIMEZONE
TZID:America/Chicago
BEGIN:DAYLIGHT
TZOFFSETFROM:-0600
TZOFFSETTO:-0500
TZNAME:CDT
DTSTART:20210314T080000
END:DAYLIGHT
BEGIN:STANDARD
TZOFFSETFROM:-0500
TZOFFSETTO:-0600
TZNAME:CST
DTSTART:20211107T070000
END:STANDARD
END:VTIMEZONE
BEGIN:VEVENT
DTSTART;TZID=America/Chicago:20211030T190000
DTEND;TZID=America/Chicago:20211030T190000
DTSTAMP:20260420T195856
CREATED:20220209T040804Z
LAST-MODIFIED:20220209T072101Z
UID:105-1635620400-1635620400@albertleacivicmusic.com
SUMMARY:Janoska Ensemble
DESCRIPTION:This Vienna-based quartet of 2 violins\, piano\, and bass is the personification of virtuosity.  Their thrilling program will blend standards of the classical repertoire with revelatory jazz influences and a bit of the Beatles.  And when played by these 3 brothers and their brother-in-law\, it becomes magical for every audience. ?True art knows no frontiers\, and the music of the three brothers from Bratislava—Ondrej\, František and Roman Janoska—and their Konstanz-born brother-in-law\, Julius Darvas\, proves that in remarkable fashion. Their musical creations happily harmonize or colorfully contrast their classical fach with the music of other genres—from jazz and Latin to pop music. The consequence is not a mix of styles\, however\, it is a creative synthesis: the Janoska Style.
URL:https://albertleacivicmusic.com/event/janoska-ensemble/
LOCATION:Albert Lea High School Auditorium\, 2000 Tiger Ln\, Albert Lea\, MN\, 56007\, United States
CATEGORIES:Civic Music - Concert Series
ATTACH;FMTTYPE=image/jpeg:https://albertleacivicmusic.com/wp-content/uploads/2022/02/janoska-2.jpg
END:VEVENT
BEGIN:VEVENT
DTSTART;TZID=America/Chicago:20211030T190000
DTEND;TZID=America/Chicago:20211030T190000
DTSTAMP:20260420T195856
CREATED:20220209T040804Z
LAST-MODIFIED:20220209T072159Z
UID:106-1635620400-1635620400@albertleacivicmusic.com
SUMMARY:Intersection Trio
DESCRIPTION:A typical evening with Intersection may center on a Ravel\, Dvorák or Brahms trio\, but will veer into previously unexplored byroads. A Hungarian thread present in the Brahms may be further spun into a sequence of Gypsy tunes\, Dvorak into slavic dance forms\, Ravel into the ethereal world of sensuous French song. American music\, crucial to Intersection’s repertoire\, is presented in musical forms spanning the most avant garde of compositions to lighter fare such as excerpts of film music and popular theater and song. Various solos and duos add to the aural variety.Intersection are reknowned for the new catalog of trio works that they have directly inspired. These works\, substantial but immediately accessible\, figure prominently in their programs. Energetic young composers such as Patrick Zimmerli\, Kenji Bunch\, Dan Coleman\, Ryuichi Sakamoto and Novacek himself have all contributed to the catalog\, and one hallmark common to much of this music is a suggestion of the trio’s hometown\, New York City\, in its vitality\, verve\, and diversity. \nKristina\, Laura and John have individually achieved enviable successes as solists and chamber musicians in the world of classical music\, but each have effectively ventured beyond circumscribed artistic borders\, exploring new music\, world music\, jazz and pop. The uniqueness of the group is in tapping to the full these highly varied backgrounds\, in shows that seamlessly fuse the traditional and the surprising\, the premeditated and the improvisatory\, and of course their easy verbal interplay with each other and with the audience. An evening with Intersection is a virtual collaboration between artists and audience.
URL:https://albertleacivicmusic.com/event/intersection-trio/
LOCATION:Albert Lea High School Auditorium\, 2000 Tiger Ln\, Albert Lea\, MN\, 56007\, United States
CATEGORIES:Civic Music - Concert Series
ATTACH;FMTTYPE=image/jpeg:https://albertleacivicmusic.com/wp-content/uploads/2022/02/intersection-group-2-300dpi.jpeg
END:VEVENT
END:VCALENDAR