BEGIN:VCALENDAR
VERSION:2.0
PRODID:-//Albert Lea Civic Music - ECPv6.0.13.1//NONSGML v1.0//EN
CALSCALE:GREGORIAN
METHOD:PUBLISH
X-ORIGINAL-URL:https://albertleacivicmusic.com
X-WR-CALDESC:Events for Albert Lea Civic Music
REFRESH-INTERVAL;VALUE=DURATION:PT1H
X-Robots-Tag:noindex
X-PUBLISHED-TTL:PT1H
BEGIN:VTIMEZONE
TZID:America/Chicago
BEGIN:DAYLIGHT
TZOFFSETFROM:-0600
TZOFFSETTO:-0500
TZNAME:CDT
DTSTART:20240310T080000
END:DAYLIGHT
BEGIN:STANDARD
TZOFFSETFROM:-0500
TZOFFSETTO:-0600
TZNAME:CST
DTSTART:20241103T070000
END:STANDARD
END:VTIMEZONE
BEGIN:VEVENT
DTSTART;TZID=America/Chicago:20241112T190000
DTEND;TZID=America/Chicago:20241112T190000
DTSTAMP:20260419T112304
CREATED:20240630T180515Z
LAST-MODIFIED:20240724T044539Z
UID:2982-1731438000-1731438000@albertleacivicmusic.com
SUMMARY:Gilles Vonsattel
DESCRIPTION:Swiss-born American classical pianist of world renown and talent\, Mr. Vonsattel loves to perform a program featuring some classical “war horses” intermingled with some lesser-known pieces. He is quite comfortable making friends with every audience while displaying his musicality\, dynamism\, power\, and sensitivity. This program will feature Beethoven’s sonatas\, one or two each performance\, balanced with some familiar melodies. Mr. Vonsattel is professor of piano at UMass Amherst\, has played around the world\, and is a Steinway artist.
URL:https://albertleacivicmusic.com/event/gilles-vonsattel/
LOCATION:Albert Lea High School Auditorium\, 2000 Tiger Ln\, Albert Lea\, MN\, 56007\, United States
CATEGORIES:Civic Music - Concert Series
ATTACH;FMTTYPE=image/webp:https://albertleacivicmusic.com/wp-content/uploads/2024/07/Gilles-Vonsattel_2-scaled-e1721673374891.webp
END:VEVENT
BEGIN:VEVENT
DTSTART;TZID=America/Chicago:20241113T190000
DTEND;TZID=America/Chicago:20241113T190000
DTSTAMP:20260419T112304
CREATED:20240704T180520Z
LAST-MODIFIED:20240724T045020Z
UID:2987-1731524400-1731524400@albertleacivicmusic.com
SUMMARY:Letters From Home
DESCRIPTION:Letters from Home is a USO style show\, honoring artists like Frank Sinatra\, the Andrews Sisters\, Vera Lynn\, the Nicholas Brothers\, Creedence Clearwater Revival\, and many others. High-energy singing and tap dancing by founder Erinn Dearth and Dan Beckmann\, will leave you feeling great about being human. Though no two performances are the same\, each show will be funny\, historical\, and inspirational. \n  \nDates and times for reciprocity concerts subject to change.  Please visit the Clear Lake Concert Association to confirm the concert date and time.
URL:https://albertleacivicmusic.com/event/letters-from-home/
LOCATION:E.B. Stillman Auditorium\, 1601 3rd Ave N\, Clear Lake\, IA\, 50428\, United States
CATEGORIES:Clear Lake - Reciprocity
ATTACH;FMTTYPE=image/webp:https://albertleacivicmusic.com/wp-content/uploads/2024/07/Letters-From-Home_1-e1721673439157.webp
END:VEVENT
END:VCALENDAR