BEGIN:VCALENDAR
VERSION:2.0
PRODID:-//Albert Lea Civic Music - ECPv6.0.13.1//NONSGML v1.0//EN
CALSCALE:GREGORIAN
METHOD:PUBLISH
X-WR-CALNAME:Albert Lea Civic Music
X-ORIGINAL-URL:https://albertleacivicmusic.com
X-WR-CALDESC:Events for Albert Lea Civic Music
REFRESH-INTERVAL;VALUE=DURATION:PT1H
X-Robots-Tag:noindex
X-PUBLISHED-TTL:PT1H
BEGIN:VTIMEZONE
TZID:America/Chicago
BEGIN:DAYLIGHT
TZOFFSETFROM:-0600
TZOFFSETTO:-0500
TZNAME:CDT
DTSTART:20240310T080000
END:DAYLIGHT
BEGIN:STANDARD
TZOFFSETFROM:-0500
TZOFFSETTO:-0600
TZNAME:CST
DTSTART:20241103T070000
END:STANDARD
END:VTIMEZONE
BEGIN:VEVENT
DTSTART;TZID=America/Chicago:20241020T150000
DTEND;TZID=America/Chicago:20241020T150000
DTSTAMP:20260419T080801
CREATED:20240624T180514Z
LAST-MODIFIED:20240819T180413Z
UID:2981-1729436400-1729436400@albertleacivicmusic.com
SUMMARY:Rhapsody & The Blues
DESCRIPTION:Hear George Gershwin’s ‘Rhapsody in Blue’ premiered…again! This is the first NEW arrangement of Gershwin’s iconic work since the original dance band version of 1924 and the ensuing orchestral arrangement of 1942. Masterfully arranged by Matt Catingub\, this rendition will feature a special guest pianist and internationally renowned solo virtuoso Jens Lindemann on piccolo trumpet. Hear the Rhapsody as you never have before in an exciting rendition that pays homage to the legacy of this extraordinary work. This arrangement was created especially for big band\, so it swings with a quicker beat. This concert will also feature the music of Duke Ellington\, Oscar Peterson\, Nat King Cole and more. \n \nCome and hear an unbelievable and historic evening to celebrate 100 years of easily one of the most iconic piano works ever written.
URL:https://albertleacivicmusic.com/event/rhapsody-the-blues/
LOCATION:Albert Lea High School Auditorium\, 2000 Tiger Ln\, Albert Lea\, MN\, 56007\, United States
CATEGORIES:Civic Music - Concert Series
ATTACH;FMTTYPE=image/webp:https://albertleacivicmusic.com/wp-content/uploads/2024/07/Rhapsody_2-scaled-e1724090146202.webp
END:VEVENT
END:VCALENDAR