BEGIN:VCALENDAR
VERSION:2.0
PRODID:-//Albert Lea Civic Music - ECPv6.0.13.1//NONSGML v1.0//EN
CALSCALE:GREGORIAN
METHOD:PUBLISH
X-ORIGINAL-URL:https://albertleacivicmusic.com
X-WR-CALDESC:Events for Albert Lea Civic Music
REFRESH-INTERVAL;VALUE=DURATION:PT1H
X-Robots-Tag:noindex
X-PUBLISHED-TTL:PT1H
BEGIN:VTIMEZONE
TZID:America/Chicago
BEGIN:DAYLIGHT
TZOFFSETFROM:-0600
TZOFFSETTO:-0500
TZNAME:CDT
DTSTART:20250309T080000
END:DAYLIGHT
BEGIN:STANDARD
TZOFFSETFROM:-0500
TZOFFSETTO:-0600
TZNAME:CST
DTSTART:20251102T070000
END:STANDARD
END:VTIMEZONE
BEGIN:VEVENT
DTSTART;TZID=America/Chicago:20251023T190000
DTEND;TZID=America/Chicago:20251023T190000
DTSTAMP:20260424T140526
CREATED:20250504T193304Z
LAST-MODIFIED:20250608T212542Z
UID:3234-1761246000-1761246000@albertleacivicmusic.com
SUMMARY:M5 The Mexican Brass
DESCRIPTION:Celebrating 20 years as a brass quintet in 2025\, M5 The Mexican Brass\, is a world-class ensemble seamlessly blending virtuosic musicianship\, non-stop audience interaction\, and showmanship to produce a great musical-theatrical experience every night! \nM5 has toured the world—literally—having played across Europe\, Asia\, North Africa\, North America\, South America and their home base of Mexico. M5’s program will mix classical with opera\, jazz\, & pop.
URL:https://albertleacivicmusic.com/event/m5-the-mexican-brass/
LOCATION:Albert Lea High School Auditorium\, 2000 Tiger Ln\, Albert Lea\, MN\, 56007\, United States
CATEGORIES:Civic Music - Concert Series
ATTACH;FMTTYPE=image/webp:https://albertleacivicmusic.com/wp-content/uploads/2025/06/The-Mexican-Brass-2.webp
END:VEVENT
END:VCALENDAR